BEGIN:VCALENDAR
VERSION:2.0
PRODID:-//wp-events-plugin.com//7.2.3.1//EN
TZID:Europe/London
X-WR-TIMEZONE:Europe/London
BEGIN:VEVENT
UID:1533@stwilfridsparish.com
DTSTART;TZID=Europe/London:20250223T103000
DTEND;TZID=Europe/London:20250223T113000
DTSTAMP:20231231T145203Z
URL:https://stwilfridsparish.com/events/holy-communion-with-prayer-and-ano
 inting-for-healing-3-2025-02-23/
SUMMARY:Holy Communion with prayer and anointing for healing
DESCRIPTION:In this service\, the prayer for anointing and healing takes pl
 ace to one side\, during communion. You may wish to receive this for yours
 elf or on behalf of someone else. There is no need to mention any reason f
 or the prayer.
ATTACH;FMTTYPE=image/jpeg:https://stwilfridsparish.com/wp-content/uploads/
 2022/07/eucharist-gf87f6c50e_1920.jpg
CATEGORIES:Public
LOCATION:St Wilfrid's Church\, Brayton\, St Wilfrid's Church\, Doncaster Ro
 ad\, Brayton\, Selby\, North Yorkshire\,\, YO8 9HE\, United Kingdom
X-APPLE-STRUCTURED-LOCATION;VALUE=URI;X-ADDRESS=St Wilfrid's Church\, Donca
 ster Road\, Brayton\, Selby\, North Yorkshire\,\, YO8 9HE\, United Kingdom
 ;X-APPLE-RADIUS=100;X-TITLE=St Wilfrid's Church\, Brayton:geo:0,0
END:VEVENT
BEGIN:VTIMEZONE
TZID:Europe/London
X-LIC-LOCATION:Europe/London
BEGIN:STANDARD
DTSTART:20241027T010000
TZOFFSETFROM:+0100
TZOFFSETTO:+0000
TZNAME:GMT
END:STANDARD
END:VTIMEZONE
END:VCALENDAR