BEGIN:VCALENDAR
VERSION:2.0
PRODID:-//wp-events-plugin.com//7.2.3.1//EN
TZID:Europe/London
X-WR-TIMEZONE:Europe/London
BEGIN:VEVENT
UID:139@stwilfridsparish.com
DTSTART;TZID=Europe/London:20221005T140000
DTEND;TZID=Europe/London:20221005T160000
DTSTAMP:20221122T112911Z
URL:https://stwilfridsparish.com/events/open-church-creative-space-2022-10
 -05/
SUMMARY:Open Church - Creative Space
DESCRIPTION:Every first and third Wednesday in the month\, the church is op
 en for creativity or contemplation.\n\nAll creatives welcome!Â  Bring yo
 ur own materials. 2-4pm.\n\n
LOCATION:St Wilfrid's Church\, Brayton\, St Wilfrid's Church\, Doncaster Ro
 ad\, Brayton\, Selby\, North Yorkshire\,\, YO8 9HE\, United Kingdom
X-APPLE-STRUCTURED-LOCATION;VALUE=URI;X-ADDRESS=St Wilfrid's Church\, Donca
 ster Road\, Brayton\, Selby\, North Yorkshire\,\, YO8 9HE\, United Kingdom
 ;X-APPLE-RADIUS=100;X-TITLE=St Wilfrid's Church\, Brayton:geo:0,0
END:VEVENT
BEGIN:VTIMEZONE
TZID:Europe/London
X-LIC-LOCATION:Europe/London
BEGIN:DAYLIGHT
DTSTART:20220327T020000
TZOFFSETFROM:+0000
TZOFFSETTO:+0100
TZNAME:BST
END:DAYLIGHT
END:VTIMEZONE
END:VCALENDAR