BEGIN:VCALENDAR
VERSION:2.0
PRODID:-//wp-events-plugin.com//7.2.3.1//EN
TZID:Europe/London
X-WR-TIMEZONE:Europe/London
BEGIN:VEVENT
UID:1275@stwilfridsparish.com
DTSTART;TZID=Europe/London:20230616T193000
DTEND;TZID=Europe/London:20230616T213000
DTSTAMP:20230521T143511Z
URL:https://stwilfridsparish.com/events/the-fairburn-singers-present-midsu
 mmer-madness/
SUMMARY:The Fairburn Singers present: Midsummer Madness!
DESCRIPTION:From Show Medleys to some new pieces! In St Wilfrid's Church fr
 om 7.30pm. Tickets available on the door - only £8\, including refreshmen
 ts. Proceeds to be divided between St Wilfrid's Church and the Fairburn Si
 ngers Charities. All welcome for an evening of splendid entertainment!
ATTACH;FMTTYPE=image/jpeg:https://stwilfridsparish.com/wp-content/uploads/
 2023/05/fairburn-singers.webp
CATEGORIES:Social
LOCATION:St Wilfrid's Church\, Brayton\, St Wilfrid's Church\, Doncaster Ro
 ad\, Brayton\, Selby\, North Yorkshire\,\, YO8 9HE\, United Kingdom
X-APPLE-STRUCTURED-LOCATION;VALUE=URI;X-ADDRESS=St Wilfrid's Church\, Donca
 ster Road\, Brayton\, Selby\, North Yorkshire\,\, YO8 9HE\, United Kingdom
 ;X-APPLE-RADIUS=100;X-TITLE=St Wilfrid's Church\, Brayton:geo:0,0
END:VEVENT
BEGIN:VTIMEZONE
TZID:Europe/London
X-LIC-LOCATION:Europe/London
BEGIN:DAYLIGHT
DTSTART:20230326T020000
TZOFFSETFROM:+0000
TZOFFSETTO:+0100
TZNAME:BST
END:DAYLIGHT
END:VTIMEZONE
END:VCALENDAR